BEGIN:VCALENDAR
VERSION:2.0
PRODID:-//www.ketchikanarts.org//NONSGML kigkonsult.se iCalcreator 2.30.10/
 /
CALSCALE:GREGORIAN
METHOD:PUBLISH
UID:f1afafba-63f5-4d66-8b9c-e42d873188a4
X-WR-CALDESC:Ketchikan Charter School Winter Concert\nK through 4th grade p
 erforms Elflandia\, plus Middle School Choir\, 5th Grade Band and Middle S
 chool Band\nKayhi Auditorium- 6:30pm
X-WR-RELCALID:009a8bad677cb456a1df479db9e7e337
X-WR-TIMEZONE:America/Anchorage
BEGIN:VTIMEZONE
TZID:America/Anchorage
BEGIN:STANDARD
TZNAME:AKST
DTSTART:20221106T020000
TZOFFSETFROM:-0800
TZOFFSETTO:-0900
RDATE:20231105T020000
END:STANDARD
BEGIN:DAYLIGHT
TZNAME:AKDT
DTSTART:20220313T020000
TZOFFSETFROM:-0900
TZOFFSETTO:-0800
RDATE:20230312T020000
RDATE:20240310T020000
END:DAYLIGHT
END:VTIMEZONE
BEGIN:VEVENT
UID:195bbb29-a20b-4c1c-a1e2-bf83f9c696ad
DTSTAMP:20260420T000402Z
DESCRIPTION:Ketchikan Charter School Winter Concert\nK through 4th grade pe
 rforms Elflandia\, plus Middle School Choir\, 5th Grade Band and Middle Sc
 hool Band\nKayhi Auditorium- 6:30pm
DTSTART;TZID=America/Anchorage:20221208T183000
DTEND;TZID=America/Anchorage:20221208T193000
LOCATION:Kayhi Auditorium
SUMMARY:Ketchikan Charter School Winter Concert
END:VEVENT
END:VCALENDAR
