BEGIN:VCALENDAR
VERSION:2.0
PRODID:-//www.ketchikanarts.org//NONSGML kigkonsult.se iCalcreator 2.30.10/
 /
CALSCALE:GREGORIAN
METHOD:PUBLISH
UID:c76e279b-82f7-4185-aaee-8b18ec6b8fde
X-WR-CALDESC:Kayhi Winter Concert \nWith performances by the Concert Choir\
 , Symphonic Band and Wind Ensemble\nKayhi Auditorium- 7pm
X-WR-RELCALID:62c454cc8f6ea91653a3cb7012b51d1a
X-WR-TIMEZONE:America/Anchorage
BEGIN:VTIMEZONE
TZID:America/Anchorage
BEGIN:STANDARD
TZNAME:AKST
DTSTART:20221106T020000
TZOFFSETFROM:-0800
TZOFFSETTO:-0900
RDATE:20231105T020000
END:STANDARD
BEGIN:DAYLIGHT
TZNAME:AKDT
DTSTART:20220313T020000
TZOFFSETFROM:-0900
TZOFFSETTO:-0800
RDATE:20230312T020000
RDATE:20240310T020000
END:DAYLIGHT
END:VTIMEZONE
BEGIN:VEVENT
UID:97e33a25-01dd-47d2-9a69-0c98796cec40
DTSTAMP:20260420T001014Z
DESCRIPTION:Kayhi Winter Concert \nWith performances by the Concert Choir\,
  Symphonic Band and Wind Ensemble\nKayhi Auditorium- 7pm
DTSTART;TZID=America/Anchorage:20221207T190000
DTEND;TZID=America/Anchorage:20221207T200000
LOCATION:Kayhi Auditorium
SUMMARY:Kayhi Winter Concert 
END:VEVENT
END:VCALENDAR
