BEGIN:VCALENDAR
VERSION:2.0
PRODID:-//www.ketchikanarts.org//NONSGML kigkonsult.se iCalcreator 2.30.10/
 /
CALSCALE:GREGORIAN
METHOD:PUBLISH
UID:ab4b3d2d-3665-472a-a467-f6fdf61cfb0c
X-WR-CALDESC:
X-WR-RELCALID:20550b1fbd63b29caf0f3f2a5ceafeda
X-WR-TIMEZONE:America/Anchorage
BEGIN:VTIMEZONE
TZID:America/Anchorage
BEGIN:STANDARD
TZNAME:AKST
DTSTART:20221106T020000
TZOFFSETFROM:-0800
TZOFFSETTO:-0900
RDATE:20231105T020000
END:STANDARD
BEGIN:DAYLIGHT
TZNAME:AKDT
DTSTART:20220313T020000
TZOFFSETFROM:-0900
TZOFFSETTO:-0800
RDATE:20230312T020000
RDATE:20240310T020000
END:DAYLIGHT
END:VTIMEZONE
BEGIN:VEVENT
UID:f674e010-4382-491b-a5ce-ee162f97ac3e
DTSTAMP:20260420T000654Z
DESCRIPTION:
DTSTART;TZID=America/Anchorage:20221206T190000
DTEND;TZID=America/Anchorage:20221206T210000
LOCATION:Kayhi Auditorium
SUMMARY:Schoenbar Middle School Winter Concert
END:VEVENT
END:VCALENDAR
