BEGIN:VCALENDAR
VERSION:2.0
PRODID:-//www.ketchikanarts.org//NONSGML kigkonsult.se iCalcreator 2.30.10/
 /
CALSCALE:GREGORIAN
METHOD:PUBLISH
UID:25b7ce1a-ae9f-4794-918e-3109cd609b9e
X-WR-CALDESC:Fawn Mountain Winter Concert\nWith Pre-K thru 5th grade singin
 g\, and 6th Grade Band- the whole school is making music! \n
X-WR-RELCALID:fe6ed88824871c588e10f1875bc1c172
X-WR-TIMEZONE:America/Anchorage
BEGIN:VTIMEZONE
TZID:America/Anchorage
BEGIN:STANDARD
TZNAME:AKST
DTSTART:20221106T020000
TZOFFSETFROM:-0800
TZOFFSETTO:-0900
RDATE:20231105T020000
END:STANDARD
BEGIN:DAYLIGHT
TZNAME:AKDT
DTSTART:20220313T020000
TZOFFSETFROM:-0900
TZOFFSETTO:-0800
RDATE:20230312T020000
RDATE:20240310T020000
END:DAYLIGHT
END:VTIMEZONE
BEGIN:VEVENT
UID:c77fba88-6a2d-4970-b758-44f98aec2624
DTSTAMP:20260420T000817Z
DESCRIPTION:Fawn Mountain Winter Concert\nWith Pre-K thru 5th grade singing
 \, and 6th Grade Band- the whole school is making music! \n
DTSTART;TZID=America/Anchorage:20221205T180000
DTEND;TZID=America/Anchorage:20221205T190000
LOCATION:Kayhi Auditorium
SUMMARY:Fawn Mountain Winter Concert
END:VEVENT
END:VCALENDAR
