BEGIN:VCALENDAR
VERSION:2.0
PRODID:-//www.ketchikanarts.org//NONSGML kigkonsult.se iCalcreator 2.30.10/
 /
CALSCALE:GREGORIAN
METHOD:PUBLISH
UID:922c94fe-7dd0-483f-ae2d-d6f2092a43fd
X-WR-CALDESC:Come see the works of Ketchikan's amazing Youth Artists in the
  Opening of Youth in ART!!!  The exhibit is up until Friday\, December 9th
 . Following the link below to find the exhibit online.
X-WR-RELCALID:dc341996788a768431a97fc9fa3e6d5d
X-WR-TIMEZONE:America/Anchorage
BEGIN:VTIMEZONE
TZID:America/Anchorage
BEGIN:STANDARD
TZNAME:AKST
DTSTART:20221106T020000
TZOFFSETFROM:-0800
TZOFFSETTO:-0900
RDATE:20231105T020000
END:STANDARD
BEGIN:DAYLIGHT
TZNAME:AKDT
DTSTART:20220313T020000
TZOFFSETFROM:-0900
TZOFFSETTO:-0800
RDATE:20230312T020000
RDATE:20240310T020000
END:DAYLIGHT
END:VTIMEZONE
BEGIN:VEVENT
UID:45d9e49c-9314-49a1-ad3b-aff9255d808d
DTSTAMP:20260420T000730Z
DESCRIPTION:Come see the works of Ketchikan's amazing Youth Artists in the 
 Opening of Youth in ART!!!  The exhibit is up until Friday\, December 9th.
  Following the link below to find the exhibit online.
DTSTART;TZID=America/Anchorage:20221202T000000
DTEND;TZID=America/Anchorage:20221202T235900
LOCATION:
SUMMARY:Opening Youth in Art
END:VEVENT
END:VCALENDAR
