BEGIN:VCALENDAR
VERSION:2.0
PRODID:-//www.ketchikanarts.org//NONSGML kigkonsult.se iCalcreator 2.30.10/
 /
CALSCALE:GREGORIAN
METHOD:PUBLISH
UID:f922db42-3a75-4f51-a3d5-1e410635bd82
X-WR-CALDESC:Deadlines: June 1\, for residency projects beginning no earlie
 r than July 1\; December 1 for residency projects starting no earlier than
  January 1.\n\nCultural Collaborations Project Grants are matching awards 
 of up to $6\,000 in support of high-quality arts and cultural programs for
  youth that emphasize skill acquisition and direct participation in settin
 gs outside of the school day/year\, in Alaska. Cultural Collaborations Pro
 ject Grants are a program of the Alaska State Council on the Arts\, with s
 upport from Rasmuson Foundation. Eligible projects/programs provide regula
 rly scheduled sessions over an extended period of time. Nonprofit organiza
 tions\, schools or school districts are eligible to apply. Partnerships in
  support of Cultural Collaborations Project Grants are encouraged.
X-WR-RELCALID:53a09a60dc9123c64f5387f7fa812207
X-WR-TIMEZONE:America/Anchorage
BEGIN:VTIMEZONE
TZID:America/Anchorage
BEGIN:STANDARD
TZNAME:AKST
DTSTART:20221106T020000
TZOFFSETFROM:-0800
TZOFFSETTO:-0900
RDATE:20231105T020000
END:STANDARD
BEGIN:DAYLIGHT
TZNAME:AKDT
DTSTART:20220313T020000
TZOFFSETFROM:-0900
TZOFFSETTO:-0800
RDATE:20230312T020000
RDATE:20240310T020000
END:DAYLIGHT
END:VTIMEZONE
BEGIN:VEVENT
UID:bf9d756c-4d16-47d2-a160-868249ebf8b4
DTSTAMP:20260419T234722Z
DESCRIPTION:Deadlines: June 1\, for residency projects beginning no earlier
  than July 1\; December 1 for residency projects starting no earlier than 
 January 1.\n\nCultural Collaborations Project Grants are matching awards o
 f up to $6\,000 in support of high-quality arts and cultural programs for 
 youth that emphasize skill acquisition and direct participation in setting
 s outside of the school day/year\, in Alaska. Cultural Collaborations Proj
 ect Grants are a program of the Alaska State Council on the Arts\, with su
 pport from Rasmuson Foundation. Eligible projects/programs provide regular
 ly scheduled sessions over an extended period of time. Nonprofit organizat
 ions\, schools or school districts are eligible to apply. Partnerships in 
 support of Cultural Collaborations Project Grants are encouraged.
DTSTART;TZID=America/Anchorage:20221201T090000
DTEND;TZID=America/Anchorage:20221201T100000
LOCATION:
SUMMARY:Cultural Collaborations Project Grant Submission Deadline
END:VEVENT
END:VCALENDAR
