BEGIN:VCALENDAR
VERSION:2.0
PRODID:-//www.ketchikanarts.org//NONSGML kigkonsult.se iCalcreator 2.30.10/
 /
CALSCALE:GREGORIAN
METHOD:PUBLISH
UID:3eea48cd-4ddd-403f-94ce-11da7b5c50e2
X-WR-CALDESC:Giving Tuesday - November 29th - is a great opportunity to sup
 port the many arts organizations in Ketchikan!!! Follow the link below to 
 donate to Andiamo Dance - First City Players - Hughes & Vecchione Dance Pr
 ojects - Ketchikan Area Arts and Humanities Council - Ketchikan Chamber Or
 chestra - Ketchikan Community Chorus - Ketchikan Community Concert Band - 
 Ketchikan Theatre Ballet - KRBD - Rainy Day Quilt Guild - and the Sam Pitc
 her Memorial Scholarship Fund
X-WR-RELCALID:639f844341ef59659e5aa966dba54d1b
X-WR-TIMEZONE:America/Anchorage
BEGIN:VTIMEZONE
TZID:America/Anchorage
BEGIN:STANDARD
TZNAME:AKST
DTSTART:20221106T020000
TZOFFSETFROM:-0800
TZOFFSETTO:-0900
RDATE:20231105T020000
END:STANDARD
BEGIN:DAYLIGHT
TZNAME:AKDT
DTSTART:20220313T020000
TZOFFSETFROM:-0900
TZOFFSETTO:-0800
RDATE:20230312T020000
RDATE:20240310T020000
END:DAYLIGHT
END:VTIMEZONE
BEGIN:VEVENT
UID:73e0a25b-2ee5-441c-a19d-744ecc993549
DTSTAMP:20260420T011813Z
DESCRIPTION:Giving Tuesday - November 29th - is a great opportunity to supp
 ort the many arts organizations in Ketchikan!!! Follow the link below to d
 onate to Andiamo Dance - First City Players - Hughes & Vecchione Dance Pro
 jects - Ketchikan Area Arts and Humanities Council - Ketchikan Chamber Orc
 hestra - Ketchikan Community Chorus - Ketchikan Community Concert Band - K
 etchikan Theatre Ballet - KRBD - Rainy Day Quilt Guild - and the Sam Pitch
 er Memorial Scholarship Fund
DTSTART;TZID=America/Anchorage:20221129T060000
DTEND;TZID=America/Anchorage:20221129T230000
LOCATION:
SUMMARY:Giving Tuesday!
END:VEVENT
END:VCALENDAR
