BEGIN:VCALENDAR
VERSION:2.0
PRODID:-//www.ketchikanarts.org//NONSGML kigkonsult.se iCalcreator 2.30.10/
 /
CALSCALE:GREGORIAN
METHOD:PUBLISH
UID:5ba6b097-fdcb-4a73-8c2c-241447b43e6e
X-WR-CALDESC:Join the Ketchikan Chamber Orchestra and the Ketchikan Communi
 ty Chorus in a joint performance\, 'Singers and Strings: Bringing Back the
  Music' during the IDEA Festival. The Ketchikan Chamber Orchestra will be 
 performing Sibelius\, Beethoven\, Scarlatti and Bach\,. The Ketchikan Comm
 unity Chorus will be featuring fun mix of jazzy music and Christmas tunes 
 (most definitely a sing along!!!). \n\nTickets Adults $20\, Seniors $10\, 
 Youth under 18 free
X-WR-RELCALID:58f6dd11791c5972643a9df54b31ddd0
X-WR-TIMEZONE:America/Anchorage
BEGIN:VTIMEZONE
TZID:America/Anchorage
BEGIN:STANDARD
TZNAME:AKST
DTSTART:20221106T020000
TZOFFSETFROM:-0800
TZOFFSETTO:-0900
RDATE:20231105T020000
END:STANDARD
BEGIN:DAYLIGHT
TZNAME:AKDT
DTSTART:20220313T020000
TZOFFSETFROM:-0900
TZOFFSETTO:-0800
RDATE:20230312T020000
RDATE:20240310T020000
END:DAYLIGHT
END:VTIMEZONE
BEGIN:VEVENT
UID:09c3812e-2776-44f8-a194-72cdee81229e
DTSTAMP:20260420T012330Z
DESCRIPTION:Join the Ketchikan Chamber Orchestra and the Ketchikan Communit
 y Chorus in a joint performance\, 'Singers and Strings: Bringing Back the 
 Music' during the IDEA Festival. The Ketchikan Chamber Orchestra will be p
 erforming Sibelius\, Beethoven\, Scarlatti and Bach\,. The Ketchikan Commu
 nity Chorus will be featuring fun mix of jazzy music and Christmas tunes (
 most definitely a sing along!!!). \n\nTickets Adults $20\, Seniors $10\, Y
 outh under 18 free
DTSTART;TZID=America/Anchorage:20221127T150000
DTEND;TZID=America/Anchorage:20221127T163000
LOCATION:Kayhi Auditorium
SUMMARY:'Singers and Strings: Bringing Back the Msuic' Ketchikan Chamber Or
 chestra\, Ketchikan Community Chorus
END:VEVENT
END:VCALENDAR
