BEGIN:VCALENDAR
VERSION:2.0
PRODID:-//www.ketchikanarts.org//NONSGML kigkonsult.se iCalcreator 2.30.10/
 /
CALSCALE:GREGORIAN
METHOD:PUBLISH
UID:b4cf9e84-20f2-4020-b7fe-1325520a7e76
X-WR-CALDESC:Join the Ketchikan Community Concert Band during the IDEA Fest
 ival for 'Storytelling in Music: Folk Songs and Shanties' Fall performance
 . The performance will be preceded by a 'Concert Talk' presented by Jeffre
 y Kalrson about the concert band genre\, and the music to be performed. \n
 \nTickets are $15 for adults\, free for youth 18 and under. Purchase ticke
 ts at the link below\, or at the door.
X-WR-RELCALID:bd69459920c8f1a6b72cad728b01b91d
X-WR-TIMEZONE:America/Anchorage
BEGIN:VTIMEZONE
TZID:America/Anchorage
BEGIN:STANDARD
TZNAME:AKST
DTSTART:20221106T020000
TZOFFSETFROM:-0800
TZOFFSETTO:-0900
RDATE:20231105T020000
END:STANDARD
BEGIN:DAYLIGHT
TZNAME:AKDT
DTSTART:20220313T020000
TZOFFSETFROM:-0900
TZOFFSETTO:-0800
RDATE:20230312T020000
RDATE:20240310T020000
END:DAYLIGHT
END:VTIMEZONE
BEGIN:VEVENT
UID:0d22ec69-cb9a-4feb-9737-928e6499092b
DTSTAMP:20260420T012444Z
DESCRIPTION:Join the Ketchikan Community Concert Band during the IDEA Festi
 val for 'Storytelling in Music: Folk Songs and Shanties' Fall performance.
  The performance will be preceded by a 'Concert Talk' presented by Jeffrey
  Kalrson about the concert band genre\, and the music to be performed. \n
 \nTickets are $15 for adults\, free for youth 18 and under. Purchase ticke
 ts at the link below\, or at the door.
DTSTART;TZID=America/Anchorage:20221126T190000
DTEND;TZID=America/Anchorage:20221126T203000
LOCATION:Kayhi Auditorium
SUMMARY:'Storytelling in Music' - Ketchikan Community Concert Band
END:VEVENT
END:VCALENDAR
