BEGIN:VCALENDAR
VERSION:2.0
PRODID:-//www.ketchikanarts.org//NONSGML kigkonsult.se iCalcreator 2.30.10/
 /
CALSCALE:GREGORIAN
METHOD:PUBLISH
UID:8f087539-1731-4e6e-88df-1da029008d70
X-WR-CALDESC:Help support young Ketchikan musicians\, AND hear awesome Jazz
 !!!! Performances by Schoenbar Jazz Band\, the Kayhi Jazz Band\, Kayhi Voc
 al Jazz and featuring Hydroplane\, a jazz ensemble assembled by former sch
 olarship recipient\, Austin Hays!!!!! With a special performance by the 20
 22 FCP Divo\, and former scholarship recipient\, Niles Corporon!
X-WR-RELCALID:5d9e8bc45b93d031bdcd2e6cab804f07
X-WR-TIMEZONE:America/Anchorage
BEGIN:VTIMEZONE
TZID:America/Anchorage
BEGIN:STANDARD
TZNAME:AKST
DTSTART:20221106T020000
TZOFFSETFROM:-0800
TZOFFSETTO:-0900
RDATE:20231105T020000
END:STANDARD
BEGIN:DAYLIGHT
TZNAME:AKDT
DTSTART:20220313T020000
TZOFFSETFROM:-0900
TZOFFSETTO:-0800
RDATE:20230312T020000
RDATE:20240310T020000
END:DAYLIGHT
END:VTIMEZONE
BEGIN:VEVENT
UID:204c6613-28ca-4c33-94b5-2fb53a593e87
DTSTAMP:20260420T012202Z
DESCRIPTION:Help support young Ketchikan musicians\, AND hear awesome Jazz!
 !!! Performances by Schoenbar Jazz Band\, the Kayhi Jazz Band\, Kayhi Voca
 l Jazz and featuring Hydroplane\, a jazz ensemble assembled by former scho
 larship recipient\, Austin Hays!!!!! With a special performance by the 202
 2 FCP Divo\, and former scholarship recipient\, Niles Corporon!
DTSTART;TZID=America/Anchorage:20221122T190000
DTEND;TZID=America/Anchorage:20221122T200000
LOCATION:Kayhi Auditorum
SUMMARY:Sam Pitcher Scholarship Concert 'An Evening of Jazz'
END:VEVENT
END:VCALENDAR
