BEGIN:VCALENDAR
VERSION:2.0
PRODID:-//www.ketchikanarts.org//NONSGML kigkonsult.se iCalcreator 2.30.10/
 /
CALSCALE:GREGORIAN
METHOD:PUBLISH
UID:c5d0b769-3a3f-426a-96b9-b559240c07c2
X-WR-CALDESC:
X-WR-RELCALID:e4c6e02e990e1a6bd1b16f3797bd4502
X-WR-TIMEZONE:America/Anchorage
BEGIN:VTIMEZONE
TZID:America/Anchorage
BEGIN:STANDARD
TZNAME:AKST
DTSTART:20221106T020000
TZOFFSETFROM:-0800
TZOFFSETTO:-0900
RDATE:20231105T020000
END:STANDARD
BEGIN:DAYLIGHT
TZNAME:AKDT
DTSTART:20220313T020000
TZOFFSETFROM:-0900
TZOFFSETTO:-0800
RDATE:20230312T020000
RDATE:20240310T020000
END:DAYLIGHT
END:VTIMEZONE
BEGIN:VEVENT
UID:2e83f38c-d3f1-48ec-a874-5e995b337914
DTSTAMP:20260420T011850Z
DESCRIPTION:
DTSTART;TZID=America/Anchorage:20221119T000000
DTEND;TZID=America/Anchorage:20221119T235900
LOCATION:
SUMMARY:Kayhi Dance Fall Featuring Studio Max
END:VEVENT
END:VCALENDAR
