BEGIN:VCALENDAR
VERSION:2.0
PRODID:-//www.ketchikanarts.org//NONSGML kigkonsult.se iCalcreator 2.30.10/
 /
CALSCALE:GREGORIAN
METHOD:PUBLISH
UID:d8aefd3f-1b6b-46a8-b5cf-98f2997fee7f
X-WR-CALDESC:
X-WR-RELCALID:ef99429b2474da8e3742f1646944cb48
X-WR-TIMEZONE:America/Anchorage
BEGIN:VTIMEZONE
TZID:America/Anchorage
BEGIN:STANDARD
TZNAME:AKST
DTSTART:20221106T020000
TZOFFSETFROM:-0800
TZOFFSETTO:-0900
RDATE:20231105T020000
END:STANDARD
BEGIN:DAYLIGHT
TZNAME:AKDT
DTSTART:20220313T020000
TZOFFSETFROM:-0900
TZOFFSETTO:-0800
RDATE:20230312T020000
RDATE:20240310T020000
END:DAYLIGHT
END:VTIMEZONE
BEGIN:VEVENT
UID:62802de3-1e43-43ba-940f-496986aecf23
DTSTAMP:20260420T012432Z
DESCRIPTION:
DTSTART;TZID=America/Anchorage:20221112T190000
DTEND;TZID=America/Anchorage:20221112T200000
LOCATION:Ketchikan High School Auditorium
SUMMARY:'9 to 5' performance by First City Players
END:VEVENT
END:VCALENDAR
