BEGIN:VCALENDAR
VERSION:2.0
PRODID:-//www.ketchikanarts.org//NONSGML kigkonsult.se iCalcreator 2.30.10/
 /
CALSCALE:GREGORIAN
METHOD:PUBLISH
UID:173d00b1-6f41-482c-8d5f-01e4c053977b
X-WR-CALDESC:Greater Ketchikan Chamber of Commerce 2022 Celebration of the 
 Stars 'SEAS of Opportunity' celebration honoring water-based industries.
X-WR-RELCALID:af14b5af7cb709b6d298d3d6f5e4e06d
X-WR-TIMEZONE:America/Anchorage
BEGIN:VTIMEZONE
TZID:America/Anchorage
BEGIN:STANDARD
TZNAME:AKST
DTSTART:20221106T020000
TZOFFSETFROM:-0800
TZOFFSETTO:-0900
RDATE:20231105T020000
END:STANDARD
BEGIN:DAYLIGHT
TZNAME:AKDT
DTSTART:20220313T020000
TZOFFSETFROM:-0900
TZOFFSETTO:-0800
RDATE:20230312T020000
RDATE:20240310T020000
END:DAYLIGHT
END:VTIMEZONE
BEGIN:VEVENT
UID:2ba647b5-c3e5-4df2-a104-4cae845605d1
DTSTAMP:20260420T012526Z
DESCRIPTION:Greater Ketchikan Chamber of Commerce 2022 Celebration of the S
 tars 'SEAS of Opportunity' celebration honoring water-based industries.
DTSTART;TZID=America/Anchorage:20221112T180000
DTEND;TZID=America/Anchorage:20221112T220000
LOCATION:Ted Ferry Civic Center
SUMMARY:'SEAS of Opportunity' Greater Ketchikan Chamber of Commerce
END:VEVENT
END:VCALENDAR
