BEGIN:VCALENDAR
VERSION:2.0
PRODID:-//www.ketchikanarts.org//NONSGML kigkonsult.se iCalcreator 2.30.10/
 /
CALSCALE:GREGORIAN
METHOD:PUBLISH
UID:d23d27e2-6ce8-464d-9f5a-93362a7e0e20
X-WR-CALDESC:Music Through Many Decades a Broad Perspective\, Hosted by Dia
 ne Slagle with special guests- Main Street Gallery Special guest's and Cam
 eo's with Harmilla Earth\, Sharolyn Kroscavage\, Shauna Lee and Marjorie E
 vers. \n\n20's and 30's\, Jazz & Blues\, Ma Rainey\, Bessie Smith\, Billie
  Holiday\n\nTickets $15 at the door
X-WR-RELCALID:2762e9790576c8bd2f250826000b831c
X-WR-TIMEZONE:America/Anchorage
BEGIN:VTIMEZONE
TZID:America/Anchorage
BEGIN:STANDARD
TZNAME:AKST
DTSTART:20221106T020000
TZOFFSETFROM:-0800
TZOFFSETTO:-0900
RDATE:20231105T020000
END:STANDARD
BEGIN:DAYLIGHT
TZNAME:AKDT
DTSTART:20220313T020000
TZOFFSETFROM:-0900
TZOFFSETTO:-0800
RDATE:20230312T020000
RDATE:20240310T020000
END:DAYLIGHT
END:VTIMEZONE
BEGIN:VEVENT
UID:356c9ed1-6903-43af-ab07-eb78befb2c1e
DTSTAMP:20260420T011859Z
DESCRIPTION:Music Through Many Decades a Broad Perspective\, Hosted by Dian
 e Slagle with special guests- Main Street Gallery Special guest's and Came
 o's with Harmilla Earth\, Sharolyn Kroscavage\, Shauna Lee and Marjorie Ev
 ers. \n\n20's and 30's\, Jazz & Blues\, Ma Rainey\, Bessie Smith\, Billie 
 Holiday\n\nTickets $15 at the door
DTSTART;TZID=America/Anchorage:20221110T190000
DTEND;TZID=America/Anchorage:20221110T210000
LOCATION:Main Street Gallery
SUMMARY:Torch Nights Performing Arts Series
END:VEVENT
END:VCALENDAR
