BEGIN:VCALENDAR
VERSION:2.0
PRODID:-//www.ketchikanarts.org//NONSGML kigkonsult.se iCalcreator 2.30.10/
 /
CALSCALE:GREGORIAN
METHOD:PUBLISH
UID:97fca87c-7823-47d9-abaa-ad58339ea835
X-WR-CALDESC:Stories at Latitude 56 with host Jack Finnegan bring you seven
  Story SLAM events at the Alaska Fish House pay what you can. Join us for 
 impromptu storytelling with friends\, neighbors\, and visitors! Themes are
  suggestions\, not requirements!\n
X-WR-RELCALID:27bdac880ca3e54453f233f100b2afc2
X-WR-TIMEZONE:America/Anchorage
BEGIN:VTIMEZONE
TZID:America/Anchorage
BEGIN:STANDARD
TZNAME:AKST
DTSTART:20221106T020000
TZOFFSETFROM:-0800
TZOFFSETTO:-0900
RDATE:20231105T020000
END:STANDARD
BEGIN:DAYLIGHT
TZNAME:AKDT
DTSTART:20220313T020000
TZOFFSETFROM:-0900
TZOFFSETTO:-0800
RDATE:20230312T020000
RDATE:20240310T020000
END:DAYLIGHT
END:VTIMEZONE
BEGIN:VEVENT
UID:6a894cd8-d5f8-4340-9e14-6a42deeb1255
DTSTAMP:20260420T011935Z
DESCRIPTION:Stories at Latitude 56 with host Jack Finnegan bring you seven 
 Story SLAM events at the Alaska Fish House pay what you can. Join us for i
 mpromptu storytelling with friends\, neighbors\, and visitors! Themes are 
 suggestions\, not requirements!\n
DTSTART;TZID=America/Anchorage:20221108T193000
DTEND;TZID=America/Anchorage:20221108T203000
LOCATION:Latitude 56
SUMMARY:Story Slam 'There's a Word For That'
END:VEVENT
END:VCALENDAR
