BEGIN:VCALENDAR
VERSION:2.0
PRODID:-//www.ketchikanarts.org//NONSGML kigkonsult.se iCalcreator 2.30.10/
 /
CALSCALE:GREGORIAN
METHOD:PUBLISH
UID:52d54e00-acc5-4891-9a39-308e3656e77e
X-WR-CALDESC:
X-WR-RELCALID:742eea282cedc200d5e865b1876ac441
X-WR-TIMEZONE:America/Anchorage
BEGIN:VTIMEZONE
TZID:America/Anchorage
BEGIN:STANDARD
TZNAME:AKST
DTSTART:20211107T020000
TZOFFSETFROM:-0800
TZOFFSETTO:-0900
RDATE:20221106T020000
RDATE:20231105T020000
END:STANDARD
BEGIN:DAYLIGHT
TZNAME:AKDT
DTSTART:20220313T020000
TZOFFSETFROM:-0900
TZOFFSETTO:-0800
RDATE:20230312T020000
RDATE:20240310T020000
END:DAYLIGHT
END:VTIMEZONE
BEGIN:VEVENT
UID:e9a0dcc4-0ef9-408e-b1e1-cc44a727ada9
DTSTAMP:20260420T012438Z
DESCRIPTION:
DTSTART;TZID=America/Anchorage:20221105T173000
DTEND;TZID=America/Anchorage:20221105T183000
LOCATION:Ted Ferry Civic Center
SUMMARY:Celebration of the Stars Annual Gala & Chamber Community Awards
END:VEVENT
END:VCALENDAR
