BEGIN:VCALENDAR
VERSION:2.0
PRODID:-//www.ketchikanarts.org//NONSGML kigkonsult.se iCalcreator 2.30.10/
 /
CALSCALE:GREGORIAN
METHOD:PUBLISH
UID:f70ba502-12eb-43c7-abbf-15623e1e9168
X-WR-CALDESC:Join the Southeast Alaska Discovery Center for the OFFICIAL PR
 EMIERE of the Award-Winning Ketchikan-Produced Short Film\, “The Ladder!”
 \nOn Saturday\, November 5th at 11:30 AM\, come down to the Southeast Alas
 ka Discovery Center Theater to watch “The Ladder” and other Alaskan-produc
 ed films\, followed by a presentation by Writer-Director\, Emilio Miguel T
 orres\, on the next feature-length evolution of the project in 2023. The e
 vent will conclude with a reception.
X-WR-RELCALID:5c1936aaee009c3cbc7c1c6418cf26df
X-WR-TIMEZONE:America/Anchorage
BEGIN:VTIMEZONE
TZID:America/Anchorage
BEGIN:STANDARD
TZNAME:AKST
DTSTART:20211107T020000
TZOFFSETFROM:-0800
TZOFFSETTO:-0900
RDATE:20221106T020000
RDATE:20231105T020000
END:STANDARD
BEGIN:DAYLIGHT
TZNAME:AKDT
DTSTART:20220313T020000
TZOFFSETFROM:-0900
TZOFFSETTO:-0800
RDATE:20230312T020000
RDATE:20240310T020000
END:DAYLIGHT
END:VTIMEZONE
BEGIN:VEVENT
UID:7baeaa47-dad8-4e68-9c29-6e5f698ffaaf
DTSTAMP:20260420T012006Z
DESCRIPTION:Join the Southeast Alaska Discovery Center for the OFFICIAL PRE
 MIERE of the Award-Winning Ketchikan-Produced Short Film\, “The Ladder!”\n
 On Saturday\, November 5th at 11:30 AM\, come down to the Southeast Alaska
  Discovery Center Theater to watch “The Ladder” and other Alaskan-produced
  films\, followed by a presentation by Writer-Director\, Emilio Miguel Tor
 res\, on the next feature-length evolution of the project in 2023. The eve
 nt will conclude with a reception.
DTSTART;TZID=America/Anchorage:20221105T113000
DTEND;TZID=America/Anchorage:20221105T150000
LOCATION:
SUMMARY:'The Ladder' Official Premier Event
END:VEVENT
END:VCALENDAR
