BEGIN:VCALENDAR
VERSION:2.0
PRODID:-//www.ketchikanarts.org//NONSGML kigkonsult.se iCalcreator 2.30.10/
 /
CALSCALE:GREGORIAN
METHOD:PUBLISH
UID:44f3151b-f03f-43ba-95c0-473cdd79fa16
X-WR-CALDESC:
X-WR-RELCALID:4b52b3af437c229e84a45d6f082210b3
X-WR-TIMEZONE:America/Anchorage
BEGIN:VTIMEZONE
TZID:America/Anchorage
BEGIN:STANDARD
TZNAME:AKST
DTSTART:20211107T020000
TZOFFSETFROM:-0800
TZOFFSETTO:-0900
RDATE:20221106T020000
RDATE:20231105T020000
END:STANDARD
BEGIN:DAYLIGHT
TZNAME:AKDT
DTSTART:20220313T020000
TZOFFSETFROM:-0900
TZOFFSETTO:-0800
RDATE:20230312T020000
RDATE:20240310T020000
END:DAYLIGHT
END:VTIMEZONE
BEGIN:VEVENT
UID:6e148c41-eb7d-4a74-b3f5-9cfa5637d429
DTSTAMP:20260420T012318Z
DESCRIPTION:
DTSTART;TZID=America/Anchorage:20221104T190000
DTEND;TZID=America/Anchorage:20221104T200000
LOCATION:Ketchikan High School Auditorium
SUMMARY:'9 to 5' performance by First City Players
END:VEVENT
END:VCALENDAR
