BEGIN:VCALENDAR
VERSION:2.0
PRODID:-//www.ketchikanarts.org//NONSGML kigkonsult.se iCalcreator 2.30.10/
 /
CALSCALE:GREGORIAN
METHOD:PUBLISH
UID:2de95b06-3818-4a45-bd3c-a094ba577139
X-WR-CALDESC:BOOMbal Dancehall is hosting a swing dance on Saturday the 29t
 h\nThis will be the first dance we've had since the pandemic!\nThe dance i
 s free for dancers attending October classes and $7 for any other dancers 
 that want to join the fun.\nMusic will be a Dj'd  mix of swing music from 
 Golden Age\, Electroswing\, classic pop\, and heavy on contemporary swing 
 bands.\nThere is not instruction at this event\, the evening is to practic
 e and dance.\nMain Street Gallery\n7:15 - 9:15 ish
X-WR-RELCALID:0f8acd638e514d82aa3eaf90d60cf22c
X-WR-TIMEZONE:America/Anchorage
BEGIN:VTIMEZONE
TZID:America/Anchorage
BEGIN:STANDARD
TZNAME:AKST
DTSTART:20211107T020000
TZOFFSETFROM:-0800
TZOFFSETTO:-0900
RDATE:20221106T020000
RDATE:20231105T020000
END:STANDARD
BEGIN:DAYLIGHT
TZNAME:AKDT
DTSTART:20220313T020000
TZOFFSETFROM:-0900
TZOFFSETTO:-0800
RDATE:20230312T020000
RDATE:20240310T020000
END:DAYLIGHT
END:VTIMEZONE
BEGIN:VEVENT
UID:46e43a61-d343-4ad9-9495-eabb244d6b3f
DTSTAMP:20260420T025702Z
DESCRIPTION:BOOMbal Dancehall is hosting a swing dance on Saturday the 29th
 \nThis will be the first dance we've had since the pandemic!\nThe dance is
  free for dancers attending October classes and $7 for any other dancers t
 hat want to join the fun.\nMusic will be a Dj'd  mix of swing music from G
 olden Age\, Electroswing\, classic pop\, and heavy on contemporary swing b
 ands.\nThere is not instruction at this event\, the evening is to practice
  and dance.\nMain Street Gallery\n7:15 - 9:15 ish
DTSTART;TZID=America/Anchorage:20221029T190000
DTEND;TZID=America/Anchorage:20221029T210000
LOCATION:Main Street Gallery
SUMMARY:BOOMbal Dancehall Swing Dance!
END:VEVENT
END:VCALENDAR
