BEGIN:VCALENDAR
VERSION:2.0
PRODID:-//www.ketchikanarts.org//NONSGML kigkonsult.se iCalcreator 2.30.10/
 /
CALSCALE:GREGORIAN
METHOD:PUBLISH
UID:97cd7fc8-a2ee-4abd-a428-320fa21291ca
X-WR-CALDESC:
X-WR-RELCALID:fcc71269be229a6bef515ee307a24242
X-WR-TIMEZONE:America/Anchorage
BEGIN:VTIMEZONE
TZID:America/Anchorage
BEGIN:STANDARD
TZNAME:AKST
DTSTART:20211107T020000
TZOFFSETFROM:-0800
TZOFFSETTO:-0900
RDATE:20221106T020000
RDATE:20231105T020000
END:STANDARD
BEGIN:DAYLIGHT
TZNAME:AKDT
DTSTART:20220313T020000
TZOFFSETFROM:-0900
TZOFFSETTO:-0800
RDATE:20230312T020000
RDATE:20240310T020000
END:DAYLIGHT
END:VTIMEZONE
BEGIN:VEVENT
UID:96f374ab-1cc5-4b26-a334-7612740cbbe3
DTSTAMP:20260420T030027Z
DESCRIPTION:
DTSTART;TZID=America/Anchorage:20221023T000000
DTEND;TZID=America/Anchorage:20221023T235900
LOCATION:Haines\, AK
SUMMARY:Haines Honor Festival
END:VEVENT
END:VCALENDAR
