BEGIN:VCALENDAR
VERSION:2.0
PRODID:-//www.ketchikanarts.org//NONSGML kigkonsult.se iCalcreator 2.30.10/
 /
CALSCALE:GREGORIAN
METHOD:PUBLISH
UID:954920e8-5284-4f86-9877-1594984f1428
X-WR-CALDESC:
X-WR-RELCALID:9339b610a5168029cfee5f72658184e2
X-WR-TIMEZONE:America/Anchorage
BEGIN:VTIMEZONE
TZID:America/Anchorage
BEGIN:STANDARD
TZNAME:AKST
DTSTART:20211107T020000
TZOFFSETFROM:-0800
TZOFFSETTO:-0900
RDATE:20221106T020000
RDATE:20231105T020000
END:STANDARD
BEGIN:DAYLIGHT
TZNAME:AKDT
DTSTART:20220313T020000
TZOFFSETFROM:-0900
TZOFFSETTO:-0800
RDATE:20230312T020000
RDATE:20240310T020000
END:DAYLIGHT
END:VTIMEZONE
BEGIN:VEVENT
UID:87b340e2-5d19-4264-8aba-4bfe7b631878
DTSTAMP:20260420T030151Z
DESCRIPTION:
DTSTART;TZID=America/Anchorage:20221016T090000
DTEND;TZID=America/Anchorage:20221016T100000
LOCATION:Ketchikan Public Library
SUMMARY:Filipino Book Festival
END:VEVENT
END:VCALENDAR
