BEGIN:VCALENDAR
VERSION:2.0
PRODID:-//www.ketchikanarts.org//NONSGML kigkonsult.se iCalcreator 2.30.10/
 /
CALSCALE:GREGORIAN
METHOD:PUBLISH
UID:f578dba0-c018-4adc-b0dc-db422d338032
X-WR-CALDESC:Save the date for Ketchikan's second Filipino American Festiva
 l!!! We will add more details as events are finalized throughout the commu
 nity!
X-WR-RELCALID:ff5ce70b72baf10ac3b72b25f04e3a56
X-WR-TIMEZONE:America/Anchorage
BEGIN:VTIMEZONE
TZID:America/Anchorage
BEGIN:STANDARD
TZNAME:AKST
DTSTART:20211107T020000
TZOFFSETFROM:-0800
TZOFFSETTO:-0900
RDATE:20221106T020000
RDATE:20231105T020000
END:STANDARD
BEGIN:DAYLIGHT
TZNAME:AKDT
DTSTART:20220313T020000
TZOFFSETFROM:-0900
TZOFFSETTO:-0800
RDATE:20230312T020000
RDATE:20240310T020000
END:DAYLIGHT
END:VTIMEZONE
BEGIN:VEVENT
UID:c55cfe5f-fc5b-464a-85a7-bc97f9e199bc
DTSTAMP:20260420T030152Z
DESCRIPTION:Save the date for Ketchikan's second Filipino American Festival
 !!! We will add more details as events are finalized throughout the commun
 ity!
DTSTART;TZID=America/Anchorage:20221015T103000
DTEND;TZID=America/Anchorage:20221015T113000
LOCATION:
SUMMARY:Fil-Am Festival 2022
END:VEVENT
END:VCALENDAR
