BEGIN:VCALENDAR
VERSION:2.0
PRODID:-//www.ketchikanarts.org//NONSGML kigkonsult.se iCalcreator 2.30.10/
 /
CALSCALE:GREGORIAN
METHOD:PUBLISH
UID:176c23c6-0c94-4c23-a091-dda71833af0b
X-WR-CALDESC:
X-WR-RELCALID:a63974db7ff0e92819d45659a5292947
X-WR-TIMEZONE:America/Anchorage
BEGIN:VTIMEZONE
TZID:America/Anchorage
BEGIN:STANDARD
TZNAME:AKST
DTSTART:20211107T020000
TZOFFSETFROM:-0800
TZOFFSETTO:-0900
RDATE:20221106T020000
RDATE:20231105T020000
END:STANDARD
BEGIN:DAYLIGHT
TZNAME:AKDT
DTSTART:20220313T020000
TZOFFSETFROM:-0900
TZOFFSETTO:-0800
RDATE:20230312T020000
RDATE:20240310T020000
END:DAYLIGHT
END:VTIMEZONE
BEGIN:VEVENT
UID:cf7f0d5f-4ed2-4ddb-9e73-6d6924f275ec
DTSTAMP:20260420T025657Z
DESCRIPTION:
DTSTART;TZID=America/Anchorage:20221015T180000
DTEND;TZID=America/Anchorage:20221015T190000
LOCATION:Ketchikan Public Library
SUMMARY:Author Peter Bacho Watch Party
END:VEVENT
END:VCALENDAR
