BEGIN:VCALENDAR
VERSION:2.0
PRODID:-//www.ketchikanarts.org//NONSGML kigkonsult.se iCalcreator 2.30.10/
 /
CALSCALE:GREGORIAN
METHOD:PUBLISH
UID:b9fde3d3-2629-45f4-8d56-6cd1295a752b
X-WR-CALDESC:
X-WR-RELCALID:35a03f21b09245cacb76970e3a8d94e9
X-WR-TIMEZONE:America/Anchorage
BEGIN:VTIMEZONE
TZID:America/Anchorage
BEGIN:STANDARD
TZNAME:AKST
DTSTART:20211107T020000
TZOFFSETFROM:-0800
TZOFFSETTO:-0900
RDATE:20221106T020000
RDATE:20231105T020000
END:STANDARD
BEGIN:DAYLIGHT
TZNAME:AKDT
DTSTART:20220313T020000
TZOFFSETFROM:-0900
TZOFFSETTO:-0800
RDATE:20230312T020000
RDATE:20240310T020000
END:DAYLIGHT
END:VTIMEZONE
BEGIN:VEVENT
UID:8fd838c1-ed40-4a76-9f87-0f6921531208
DTSTAMP:20260420T025819Z
DESCRIPTION:
DTSTART;TZID=America/Anchorage:20221011T000000
DTEND;TZID=America/Anchorage:20221011T235900
LOCATION:
SUMMARY:Kayhi Fall Concert Choir & Band
END:VEVENT
END:VCALENDAR
