BEGIN:VCALENDAR
VERSION:2.0
PRODID:-//www.ketchikanarts.org//NONSGML kigkonsult.se iCalcreator 2.30.10/
 /
CALSCALE:GREGORIAN
METHOD:PUBLISH
UID:0b143b7e-a102-4c11-9fa7-987feff785d0
X-WR-CALDESC:Stories at Latitude 56 with host Jack Finnegan bring you seven
  Story SLAM events at the Creek Street Cabaret! $3 at the door. Join us fo
 r impromptu storytelling with friends\, neighbors\, and visitors! Themes a
 re suggestions\, not requirements!\n
X-WR-RELCALID:92da85255212f0306eef5588610d47d2
X-WR-TIMEZONE:America/Anchorage
BEGIN:VTIMEZONE
TZID:America/Anchorage
BEGIN:STANDARD
TZNAME:AKST
DTSTART:20211107T020000
TZOFFSETFROM:-0800
TZOFFSETTO:-0900
RDATE:20221106T020000
RDATE:20231105T020000
END:STANDARD
BEGIN:DAYLIGHT
TZNAME:AKDT
DTSTART:20220313T020000
TZOFFSETFROM:-0900
TZOFFSETTO:-0800
RDATE:20230312T020000
RDATE:20240310T020000
END:DAYLIGHT
END:VTIMEZONE
BEGIN:VEVENT
UID:64ea3150-3dbb-4478-a70c-1fa40cf25856
DTSTAMP:20260420T030016Z
DESCRIPTION:Stories at Latitude 56 with host Jack Finnegan bring you seven 
 Story SLAM events at the Creek Street Cabaret! $3 at the door. Join us for
  impromptu storytelling with friends\, neighbors\, and visitors! Themes ar
 e suggestions\, not requirements!\n
DTSTART;TZID=America/Anchorage:20221011T193000
DTEND;TZID=America/Anchorage:20221011T203000
LOCATION:Latitude 56
SUMMARY:CANCELED (Story Slam 'When I Grow Up')
END:VEVENT
END:VCALENDAR
