BEGIN:VCALENDAR
VERSION:2.0
PRODID:-//www.ketchikanarts.org//NONSGML kigkonsult.se iCalcreator 2.30.10/
 /
CALSCALE:GREGORIAN
METHOD:PUBLISH
UID:46d1d8c8-6fd4-429c-9790-56052a872386
X-WR-CALDESC:Join us for a fun fundraiser at the American Legion\, featurin
 g beers from Bawden Street Brewing\, paired with deliciousness from A&P Ma
 rket (plus some homemade sauerkraut to top the whole thing off - oh and ma
 ybe some polka music...!!!)\n\nTwo options for participation this year - b
 oth $45 a person\n\n1. IN-PERSON at the American Legion - doors at 6:30pm!
 !!\n2. Order your Beer and Brats 'Take Out for Two'!!! and enjoy an evenin
 g at home!!!\n\nLimited seating\n\n\nOR\n
X-WR-RELCALID:14cf0fd4ea1f630828c6f7b87a1f6613
X-WR-TIMEZONE:America/Anchorage
BEGIN:VTIMEZONE
TZID:America/Anchorage
BEGIN:STANDARD
TZNAME:AKST
DTSTART:20211107T020000
TZOFFSETFROM:-0800
TZOFFSETTO:-0900
RDATE:20221106T020000
RDATE:20231105T020000
END:STANDARD
BEGIN:DAYLIGHT
TZNAME:AKDT
DTSTART:20220313T020000
TZOFFSETFROM:-0900
TZOFFSETTO:-0800
RDATE:20230312T020000
RDATE:20240310T020000
END:DAYLIGHT
END:VTIMEZONE
BEGIN:VEVENT
UID:5046129f-3391-4975-b345-3ddf387932ef
DTSTAMP:20260420T025537Z
DESCRIPTION:Join us for a fun fundraiser at the American Legion\, featuring
  beers from Bawden Street Brewing\, paired with deliciousness from A&P Mar
 ket (plus some homemade sauerkraut to top the whole thing off - oh and may
 be some polka music...!!!)\n\nTwo options for participation this year - bo
 th $45 a person\n\n1. IN-PERSON at the American Legion - doors at 6:30pm!!
 !\n2. Order your Beer and Brats 'Take Out for Two'!!! and enjoy an evening
  at home!!!\n\nLimited seating\n\n\nOR\n
DTSTART;TZID=America/Anchorage:20221008T183000
DTEND;TZID=America/Anchorage:20221008T210000
LOCATION:The American Legion
SUMMARY:Beer & Brats 2022
END:VEVENT
END:VCALENDAR
