BEGIN:VCALENDAR
VERSION:2.0
PRODID:-//www.ketchikanarts.org//NONSGML kigkonsult.se iCalcreator 2.30.10/
 /
CALSCALE:GREGORIAN
METHOD:PUBLISH
UID:79b28a75-ac60-40ae-b00a-5651d51172e0
X-WR-CALDESC:Ketchikan Theatre Ballet's autumn showcase and auction\, a gal
 a evening of dinner and dance!
X-WR-RELCALID:4527e6d138478e4be14ef603402cdbda
X-WR-TIMEZONE:America/Anchorage
BEGIN:VTIMEZONE
TZID:America/Anchorage
BEGIN:STANDARD
TZNAME:AKST
DTSTART:20211107T020000
TZOFFSETFROM:-0800
TZOFFSETTO:-0900
RDATE:20221106T020000
RDATE:20231105T020000
END:STANDARD
BEGIN:DAYLIGHT
TZNAME:AKDT
DTSTART:20220313T020000
TZOFFSETFROM:-0900
TZOFFSETTO:-0800
RDATE:20230312T020000
RDATE:20240310T020000
END:DAYLIGHT
END:VTIMEZONE
BEGIN:VEVENT
UID:2f6dcd8b-0926-4c86-a47a-4ff78d3a4cc8
DTSTAMP:20260420T030310Z
DESCRIPTION:Ketchikan Theatre Ballet's autumn showcase and auction\, a gala
  evening of dinner and dance!
DTSTART;TZID=America/Anchorage:20221007T000000
DTEND;TZID=America/Anchorage:20221007T235900
LOCATION:Ketchikan Theatre Ballet
SUMMARY:Ketchikan Theatre Ballet Autumn Showcase & Auction
END:VEVENT
END:VCALENDAR
