BEGIN:VCALENDAR
VERSION:2.0
PRODID:-//www.ketchikanarts.org//NONSGML kigkonsult.se iCalcreator 2.30.10/
 /
CALSCALE:GREGORIAN
METHOD:PUBLISH
UID:24d5f4d4-547b-4f19-b4f9-f0601b04127e
X-WR-CALDESC:
X-WR-RELCALID:14fc22181c89f378b308f9758cdef764
X-WR-TIMEZONE:America/Anchorage
BEGIN:VTIMEZONE
TZID:America/Anchorage
BEGIN:STANDARD
TZNAME:AKST
DTSTART:20211107T020000
TZOFFSETFROM:-0800
TZOFFSETTO:-0900
RDATE:20221106T020000
RDATE:20231105T020000
END:STANDARD
BEGIN:DAYLIGHT
TZNAME:AKDT
DTSTART:20220313T020000
TZOFFSETFROM:-0900
TZOFFSETTO:-0800
RDATE:20230312T020000
RDATE:20240310T020000
END:DAYLIGHT
END:VTIMEZONE
BEGIN:VEVENT
UID:80c17cad-df91-4a0c-ba17-a2111bf45251
DTSTAMP:20260420T025703Z
DESCRIPTION:
DTSTART;TZID=America/Anchorage:20221007T170000
DTEND;TZID=America/Anchorage:20221007T200000
LOCATION:Downtown Ketchikan\, AK
SUMMARY:Artober Art Walk Opening!
END:VEVENT
END:VCALENDAR
