BEGIN:VCALENDAR
VERSION:2.0
PRODID:-//www.ketchikanarts.org//NONSGML kigkonsult.se iCalcreator 2.30.10/
 /
CALSCALE:GREGORIAN
METHOD:PUBLISH
UID:7c3d510b-d314-4419-b0a8-acd16f3b7ef4
X-WR-CALDESC:The Ketchikan Community Foundation is hosting an annual Vintag
 e Cocktail Party on Saturday October\, 1st at 7 PM. Dress to impress in vi
 ntage cocktail attire. Scan the QR code on the flyer for tickets
X-WR-RELCALID:cee87698121e07b3f3a7820403f3c4d4
X-WR-TIMEZONE:America/Anchorage
BEGIN:VTIMEZONE
TZID:America/Anchorage
BEGIN:STANDARD
TZNAME:AKST
DTSTART:20211107T020000
TZOFFSETFROM:-0800
TZOFFSETTO:-0900
RDATE:20221106T020000
RDATE:20231105T020000
END:STANDARD
BEGIN:DAYLIGHT
TZNAME:AKDT
DTSTART:20220313T020000
TZOFFSETFROM:-0900
TZOFFSETTO:-0800
RDATE:20230312T020000
RDATE:20240310T020000
END:DAYLIGHT
END:VTIMEZONE
BEGIN:VEVENT
UID:06e7777c-1fa1-454c-bdb3-8e111e930330
DTSTAMP:20260420T030157Z
DESCRIPTION:The Ketchikan Community Foundation is hosting an annual Vintage
  Cocktail Party on Saturday October\, 1st at 7 PM. Dress to impress in vin
 tage cocktail attire. Scan the QR code on the flyer for tickets
DTSTART;TZID=America/Anchorage:20221001T190000
DTEND;TZID=America/Anchorage:20221001T200000
LOCATION:
SUMMARY:Ketchikan Community Foundation Presents Vintage Cocktail Party!
END:VEVENT
END:VCALENDAR
