BEGIN:VCALENDAR
VERSION:2.0
PRODID:-//www.ketchikanarts.org//NONSGML kigkonsult.se iCalcreator 2.30.10/
 /
CALSCALE:GREGORIAN
METHOD:PUBLISH
UID:e545d1e5-3404-4068-b3a9-274947050fc8
X-WR-CALDESC:Rotating live local music! You won't be disappointed\, \nFree 
 and open to restaurant and Bar patrons
X-WR-RELCALID:9e5d5e913badfb1a5ef83723e9d7613b
X-WR-TIMEZONE:America/Anchorage
BEGIN:VTIMEZONE
TZID:America/Anchorage
BEGIN:STANDARD
TZNAME:AKST
DTSTART:20211107T020000
TZOFFSETFROM:-0800
TZOFFSETTO:-0900
RDATE:20221106T020000
RDATE:20231105T020000
END:STANDARD
BEGIN:DAYLIGHT
TZNAME:AKDT
DTSTART:20220313T020000
TZOFFSETFROM:-0900
TZOFFSETTO:-0800
RDATE:20230312T020000
RDATE:20240310T020000
END:DAYLIGHT
END:VTIMEZONE
BEGIN:VEVENT
UID:898335a9-5db8-42df-a715-50b86b1fdd89
DTSTAMP:20260420T025817Z
DESCRIPTION:Rotating live local music! You won't be disappointed\, \nFree a
 nd open to restaurant and Bar patrons
DTSTART;TZID=America/Anchorage:20221001T190000
DTEND;TZID=America/Anchorage:20221001T210000
LOCATION:New York Cafe
SUMMARY:Live Music
END:VEVENT
END:VCALENDAR
