BEGIN:VCALENDAR
VERSION:2.0
PRODID:-//www.ketchikanarts.org//NONSGML kigkonsult.se iCalcreator 2.30.10/
 /
CALSCALE:GREGORIAN
METHOD:PUBLISH
UID:c7440392-4a9a-47b1-b21c-8870a37d7226
X-WR-CALDESC:Performance by: Andiamo Dance Company\, 'Lights Out' by Christ
 ina Hughes\, and works by Grace Louise \n5 pm -6 pm 
X-WR-RELCALID:e2312bd8a68d6becce9a29bd348a0ddc
X-WR-TIMEZONE:America/Anchorage
BEGIN:VTIMEZONE
TZID:America/Anchorage
BEGIN:STANDARD
TZNAME:AKST
DTSTART:20211107T020000
TZOFFSETFROM:-0800
TZOFFSETTO:-0900
RDATE:20221106T020000
RDATE:20231105T020000
END:STANDARD
BEGIN:DAYLIGHT
TZNAME:AKDT
DTSTART:20220313T020000
TZOFFSETFROM:-0900
TZOFFSETTO:-0800
RDATE:20230312T020000
RDATE:20240310T020000
END:DAYLIGHT
END:VTIMEZONE
BEGIN:VEVENT
UID:3b86c3df-7a70-49d0-8275-992997a17ecb
DTSTAMP:20260420T043613Z
DESCRIPTION:Performance by: Andiamo Dance Company\, 'Lights Out' by Christi
 na Hughes\, and works by Grace Louise \n5 pm -6 pm 
DTSTART;TZID=America/Anchorage:20220930T170000
DTEND;TZID=America/Anchorage:20220930T180000
LOCATION:Main Street Gallery
SUMMARY:Dance Film & Interactive at the Main Street Gallery
END:VEVENT
END:VCALENDAR
