BEGIN:VCALENDAR
VERSION:2.0
PRODID:-//www.ketchikanarts.org//NONSGML kigkonsult.se iCalcreator 2.30.10/
 /
CALSCALE:GREGORIAN
METHOD:PUBLISH
UID:a20a0f2a-7c08-43ec-936f-a64149e8dca3
X-WR-CALDESC:CALL FOR STORYTELLERS \n'Let me tell you a story…” And we all 
 lean in to hear! We are seeking storytellers to share their Alaskan storie
 s this summer at the Mill at Ward Cove. Maybe your family has always been 
 here and has been connected to this place for generations\, or maybe you h
 ad an exciting wilderness episode and only just survived! Or maybe\, the b
 eauty and majesty of the Greatland inspired you to take on the mantle of a
 n adventurous life... or maybe you moved here from some distant city only 
 to shed it like a skin and embrace this wet and wild and beautiful little 
 rock in the middle of this glorious coastal rainforest… No matter what you
 r Alaskan stories are\, we want to hear your stories and give you a place 
 to share them with our visitors this season at the Mill at Ward Cove. Tis 
 is an ongoing open invitation for story tellers through the end of Septemb
 er. Please contact info@wardcoveak.com for more information or to apply.\n
X-WR-RELCALID:f8c3448ffd3554fc5a66ee6ec0f81b60
X-WR-TIMEZONE:America/Anchorage
BEGIN:VTIMEZONE
TZID:America/Anchorage
BEGIN:STANDARD
TZNAME:AKST
DTSTART:20211107T020000
TZOFFSETFROM:-0800
TZOFFSETTO:-0900
RDATE:20221106T020000
RDATE:20231105T020000
END:STANDARD
BEGIN:DAYLIGHT
TZNAME:AKDT
DTSTART:20220313T020000
TZOFFSETFROM:-0900
TZOFFSETTO:-0800
RDATE:20230312T020000
RDATE:20240310T020000
END:DAYLIGHT
END:VTIMEZONE
BEGIN:VEVENT
UID:16616617-0726-4d65-855d-2d5bf2c41e87
DTSTAMP:20260420T042959Z
DESCRIPTION:CALL FOR STORYTELLERS \n'Let me tell you a story…” And we all l
 ean in to hear! We are seeking storytellers to share their Alaskan stories
  this summer at the Mill at Ward Cove. Maybe your family has always been h
 ere and has been connected to this place for generations\, or maybe you ha
 d an exciting wilderness episode and only just survived! Or maybe\, the be
 auty and majesty of the Greatland inspired you to take on the mantle of an
  adventurous life... or maybe you moved here from some distant city only t
 o shed it like a skin and embrace this wet and wild and beautiful little r
 ock in the middle of this glorious coastal rainforest… No matter what your
  Alaskan stories are\, we want to hear your stories and give you a place t
 o share them with our visitors this season at the Mill at Ward Cove. Tis i
 s an ongoing open invitation for story tellers through the end of Septembe
 r. Please contact info@wardcoveak.com for more information or to apply.\n
DTSTART;TZID=America/Anchorage:20220930T000000
DTEND;TZID=America/Anchorage:20220930T235900
LOCATION:The Mill at Ward Cove
SUMMARY:Calling All Storytellers
END:VEVENT
END:VCALENDAR
