BEGIN:VCALENDAR
VERSION:2.0
PRODID:-//www.ketchikanarts.org//NONSGML kigkonsult.se iCalcreator 2.30.10/
 /
CALSCALE:GREGORIAN
METHOD:PUBLISH
UID:36af45f2-e6f3-4f42-9dda-e4fe455aec28
X-WR-CALDESC:Attend in person at the Plaza Mall or Facebook LIVE on the Ket
 chikan Nonprofit Collaborative's Facebook page (see link below).
X-WR-RELCALID:e829fba238419d48017a47b26826ca65
X-WR-TIMEZONE:America/Anchorage
BEGIN:VTIMEZONE
TZID:America/Anchorage
BEGIN:STANDARD
TZNAME:AKST
DTSTART:20211107T020000
TZOFFSETFROM:-0800
TZOFFSETTO:-0900
RDATE:20221106T020000
RDATE:20231105T020000
END:STANDARD
BEGIN:DAYLIGHT
TZNAME:AKDT
DTSTART:20220313T020000
TZOFFSETFROM:-0900
TZOFFSETTO:-0800
RDATE:20230312T020000
RDATE:20240310T020000
END:DAYLIGHT
END:VTIMEZONE
BEGIN:VEVENT
UID:0d419c00-d36d-44a2-b8a4-fb3cf1b841a8
DTSTAMP:20260420T042958Z
DESCRIPTION:Attend in person at the Plaza Mall or Facebook LIVE on the Ketc
 hikan Nonprofit Collaborative's Facebook page (see link below).
DTSTART;TZID=America/Anchorage:20220927T190000
DTEND;TZID=America/Anchorage:20220927T200000
LOCATION:The Plaza Mall and Facebook LIVE
SUMMARY:Borough Mayor and Assembly Candidate Forum
END:VEVENT
END:VCALENDAR
