BEGIN:VCALENDAR
VERSION:2.0
PRODID:-//www.ketchikanarts.org//NONSGML kigkonsult.se iCalcreator 2.30.10/
 /
CALSCALE:GREGORIAN
METHOD:PUBLISH
UID:0bcf11e3-633c-4fa2-804f-d6ebd48ce8b7
X-WR-CALDESC:
X-WR-RELCALID:3f43082d264a71c41c70eb6620cd740b
X-WR-TIMEZONE:America/Anchorage
BEGIN:VTIMEZONE
TZID:America/Anchorage
BEGIN:STANDARD
TZNAME:AKST
DTSTART:20211107T020000
TZOFFSETFROM:-0800
TZOFFSETTO:-0900
RDATE:20221106T020000
RDATE:20231105T020000
END:STANDARD
BEGIN:DAYLIGHT
TZNAME:AKDT
DTSTART:20220313T020000
TZOFFSETFROM:-0900
TZOFFSETTO:-0800
RDATE:20230312T020000
RDATE:20240310T020000
END:DAYLIGHT
END:VTIMEZONE
BEGIN:VEVENT
UID:6c482f53-b127-4db2-920c-efe188a331f3
DTSTAMP:20260420T045542Z
DESCRIPTION:
DTSTART;TZID=America/Anchorage:20220924T130000
DTEND;TZID=America/Anchorage:20220924T170000
LOCATION:Tongass Historical Museum
SUMMARY:The Tongass Historical Museum
END:VEVENT
END:VCALENDAR
