BEGIN:VCALENDAR
VERSION:2.0
PRODID:-//www.ketchikanarts.org//NONSGML kigkonsult.se iCalcreator 2.30.10/
 /
CALSCALE:GREGORIAN
METHOD:PUBLISH
UID:039d538a-cbb6-4c6d-a01e-72adcc28df95
X-WR-CALDESC:Main Street Gallery Live Experience\nJoin Torah Zamora as she 
 expresses the beauty of the Tsimshian culture\n5 pm -6 pm 
X-WR-RELCALID:b946a452cd82f0cb40873a9e73515e51
X-WR-TIMEZONE:America/Anchorage
BEGIN:VTIMEZONE
TZID:America/Anchorage
BEGIN:STANDARD
TZNAME:AKST
DTSTART:20211107T020000
TZOFFSETFROM:-0800
TZOFFSETTO:-0900
RDATE:20221106T020000
RDATE:20231105T020000
END:STANDARD
BEGIN:DAYLIGHT
TZNAME:AKDT
DTSTART:20220313T020000
TZOFFSETFROM:-0900
TZOFFSETTO:-0800
RDATE:20230312T020000
RDATE:20240310T020000
END:DAYLIGHT
END:VTIMEZONE
BEGIN:VEVENT
UID:245985c6-e6c2-4e3a-8ddf-cecec5bc73be
DTSTAMP:20260420T045841Z
DESCRIPTION:Main Street Gallery Live Experience\nJoin Torah Zamora as she e
 xpresses the beauty of the Tsimshian culture\n5 pm -6 pm 
DTSTART;TZID=America/Anchorage:20220923T170000
DTEND;TZID=America/Anchorage:20220923T180000
LOCATION:Main Street Gallery
SUMMARY:Tsimshian Mixed Media at the Main Street Gallery
END:VEVENT
END:VCALENDAR
