BEGIN:VCALENDAR
VERSION:2.0
PRODID:-//www.ketchikanarts.org//NONSGML kigkonsult.se iCalcreator 2.30.10/
 /
CALSCALE:GREGORIAN
METHOD:PUBLISH
UID:7eb0f6f3-ce06-4dd8-8461-550687bcc631
X-WR-CALDESC:Live Music \nFree to Restaurant and Bar Patrons\n7:00 - 9:00 p
 m
X-WR-RELCALID:1914741743582eecaeb1f1d4e0af37d4
X-WR-TIMEZONE:America/Anchorage
BEGIN:VTIMEZONE
TZID:America/Anchorage
BEGIN:STANDARD
TZNAME:AKST
DTSTART:20211107T020000
TZOFFSETFROM:-0800
TZOFFSETTO:-0900
RDATE:20221106T020000
RDATE:20231105T020000
END:STANDARD
BEGIN:DAYLIGHT
TZNAME:AKDT
DTSTART:20220313T020000
TZOFFSETFROM:-0900
TZOFFSETTO:-0800
RDATE:20230312T020000
RDATE:20240310T020000
END:DAYLIGHT
END:VTIMEZONE
BEGIN:VEVENT
UID:1044419c-112e-4020-a63d-cc46593b9aec
DTSTAMP:20260420T043211Z
DESCRIPTION:Live Music \nFree to Restaurant and Bar Patrons\n7:00 - 9:00 pm
DTSTART;TZID=America/Anchorage:20220923T190000
DTEND;TZID=America/Anchorage:20220923T210000
LOCATION:New York Cafe
SUMMARY:Joe Williams IV and Chazz Gist
END:VEVENT
END:VCALENDAR
