BEGIN:VCALENDAR
VERSION:2.0
PRODID:-//www.ketchikanarts.org//NONSGML kigkonsult.se iCalcreator 2.30.10/
 /
CALSCALE:GREGORIAN
METHOD:PUBLISH
UID:8c4c553a-669f-4fb6-bd50-d62e324ee491
X-WR-CALDESC:
X-WR-RELCALID:d4bb3869dc9d4f2750b844ddf2030572
X-WR-TIMEZONE:America/Anchorage
BEGIN:VTIMEZONE
TZID:America/Anchorage
BEGIN:STANDARD
TZNAME:AKST
DTSTART:20211107T020000
TZOFFSETFROM:-0800
TZOFFSETTO:-0900
RDATE:20221106T020000
RDATE:20231105T020000
END:STANDARD
BEGIN:DAYLIGHT
TZNAME:AKDT
DTSTART:20220313T020000
TZOFFSETFROM:-0900
TZOFFSETTO:-0800
RDATE:20230312T020000
RDATE:20240310T020000
END:DAYLIGHT
END:VTIMEZONE
BEGIN:VEVENT
UID:4c1d6f67-15c4-4036-a025-eb1d90aff40d
DTSTAMP:20260420T044926Z
DESCRIPTION:
DTSTART;TZID=America/Anchorage:20220923T130000
DTEND;TZID=America/Anchorage:20220923T170000
LOCATION:Tongass Historical Museum
SUMMARY:The Tongass Historical Museum
END:VEVENT
END:VCALENDAR
