BEGIN:VCALENDAR
VERSION:2.0
PRODID:-//www.ketchikanarts.org//NONSGML kigkonsult.se iCalcreator 2.30.10/
 /
CALSCALE:GREGORIAN
METHOD:PUBLISH
UID:bb2366ef-de0f-432a-ae22-fab299b58b8b
X-WR-CALDESC:Live music\, guitar and vocals
X-WR-RELCALID:bc7a6385a2e9cd8dec4c3cd4f9b006e4
X-WR-TIMEZONE:America/Anchorage
BEGIN:VTIMEZONE
TZID:America/Anchorage
BEGIN:STANDARD
TZNAME:AKST
DTSTART:20211107T020000
TZOFFSETFROM:-0800
TZOFFSETTO:-0900
RDATE:20221106T020000
RDATE:20231105T020000
END:STANDARD
BEGIN:DAYLIGHT
TZNAME:AKDT
DTSTART:20220313T020000
TZOFFSETFROM:-0900
TZOFFSETTO:-0800
RDATE:20230312T020000
RDATE:20240310T020000
END:DAYLIGHT
END:VTIMEZONE
BEGIN:VEVENT
UID:dafee4d3-4908-46ad-8668-21b1f9ff629f
DTSTAMP:20260420T044050Z
DESCRIPTION:Live music\, guitar and vocals
DTSTART;TZID=America/Anchorage:20220921T190000
DTEND;TZID=America/Anchorage:20220921T220000
LOCATION:Fat Stans Pizza
SUMMARY:Joe Williams IV and Cullen McCormick
END:VEVENT
END:VCALENDAR
