BEGIN:VCALENDAR
VERSION:2.0
PRODID:-//www.ketchikanarts.org//NONSGML kigkonsult.se iCalcreator 2.30.10/
 /
CALSCALE:GREGORIAN
METHOD:PUBLISH
UID:97450c54-a3a6-45ea-9e16-7e383cd63c70
X-WR-CALDESC:
X-WR-RELCALID:087b7bb92ade4a442401b494792958b9
X-WR-TIMEZONE:America/Anchorage
BEGIN:VTIMEZONE
TZID:America/Anchorage
BEGIN:STANDARD
TZNAME:AKST
DTSTART:20211107T020000
TZOFFSETFROM:-0800
TZOFFSETTO:-0900
RDATE:20221106T020000
RDATE:20231105T020000
END:STANDARD
BEGIN:DAYLIGHT
TZNAME:AKDT
DTSTART:20220313T020000
TZOFFSETFROM:-0900
TZOFFSETTO:-0800
RDATE:20230312T020000
RDATE:20240310T020000
END:DAYLIGHT
END:VTIMEZONE
BEGIN:VEVENT
UID:8ee44d0c-8a7c-4634-be88-ad130d5d333b
DTSTAMP:20260420T044947Z
DESCRIPTION:
DTSTART;TZID=America/Anchorage:20220921T130000
DTEND;TZID=America/Anchorage:20220921T170000
LOCATION:Tongass Historical Museum
SUMMARY:The Tongass Historical Museum
END:VEVENT
END:VCALENDAR
