BEGIN:VCALENDAR
VERSION:2.0
PRODID:-//www.ketchikanarts.org//NONSGML kigkonsult.se iCalcreator 2.30.10/
 /
CALSCALE:GREGORIAN
METHOD:PUBLISH
UID:1c7e9c51-7a6f-4f92-bd11-248b711d6661
X-WR-CALDESC:
X-WR-RELCALID:d00ecf20de8aed91ced657e4cbbb2af7
X-WR-TIMEZONE:America/Anchorage
BEGIN:VTIMEZONE
TZID:America/Anchorage
BEGIN:STANDARD
TZNAME:AKST
DTSTART:20211107T020000
TZOFFSETFROM:-0800
TZOFFSETTO:-0900
RDATE:20221106T020000
RDATE:20231105T020000
END:STANDARD
BEGIN:DAYLIGHT
TZNAME:AKDT
DTSTART:20220313T020000
TZOFFSETFROM:-0900
TZOFFSETTO:-0800
RDATE:20230312T020000
RDATE:20240310T020000
END:DAYLIGHT
END:VTIMEZONE
BEGIN:VEVENT
UID:e1a269d7-f65b-4416-838e-94f8d2c5088c
DTSTAMP:20260420T044518Z
DESCRIPTION:
DTSTART;TZID=America/Anchorage:20220920T130000
DTEND;TZID=America/Anchorage:20220920T170000
LOCATION:Tongass Historical Museum
SUMMARY:The Tongass Historical Museum
END:VEVENT
END:VCALENDAR
