BEGIN:VCALENDAR
VERSION:2.0
PRODID:-//www.ketchikanarts.org//NONSGML kigkonsult.se iCalcreator 2.30.10/
 /
CALSCALE:GREGORIAN
METHOD:PUBLISH
UID:ee49b87c-856d-436c-9db8-20360f2825c0
X-WR-CALDESC:Hispanic Heritage Celebration at the Main Street Gallery\nA fa
 mily night to taste authentic Mexican\, Puerto Rican and Colombian food. L
 earn about the Hispanic way of life with Spanish story time\, crafts and m
 usic. \n5 pm -6 pm 
X-WR-RELCALID:5c38b963dc59fdf49238ecba17af4bff
X-WR-TIMEZONE:America/Anchorage
BEGIN:VTIMEZONE
TZID:America/Anchorage
BEGIN:STANDARD
TZNAME:AKST
DTSTART:20211107T020000
TZOFFSETFROM:-0800
TZOFFSETTO:-0900
RDATE:20221106T020000
RDATE:20231105T020000
END:STANDARD
BEGIN:DAYLIGHT
TZNAME:AKDT
DTSTART:20220313T020000
TZOFFSETFROM:-0900
TZOFFSETTO:-0800
RDATE:20230312T020000
RDATE:20240310T020000
END:DAYLIGHT
END:VTIMEZONE
BEGIN:VEVENT
UID:4eba1bbd-5faf-4565-906f-591fd4ab3169
DTSTAMP:20260420T044208Z
DESCRIPTION:Hispanic Heritage Celebration at the Main Street Gallery\nA fam
 ily night to taste authentic Mexican\, Puerto Rican and Colombian food. Le
 arn about the Hispanic way of life with Spanish story time\, crafts and mu
 sic. \n5 pm -6 pm 
DTSTART;TZID=America/Anchorage:20220916T170000
DTEND;TZID=America/Anchorage:20220916T180000
LOCATION:Main Street Gallery
SUMMARY:Hispanic Heritage Celebration at the Main Street Gallery
END:VEVENT
END:VCALENDAR
