BEGIN:VCALENDAR
VERSION:2.0
PRODID:-//www.ketchikanarts.org//NONSGML kigkonsult.se iCalcreator 2.30.10/
 /
CALSCALE:GREGORIAN
METHOD:PUBLISH
UID:c6f254c2-e01d-4afd-aace-e640a3d2d00e
X-WR-CALDESC:
X-WR-RELCALID:1e0526d7571680e5d1a323399a6d3b86
X-WR-TIMEZONE:America/Anchorage
BEGIN:VTIMEZONE
TZID:America/Anchorage
BEGIN:STANDARD
TZNAME:AKST
DTSTART:20211107T020000
TZOFFSETFROM:-0800
TZOFFSETTO:-0900
RDATE:20221106T020000
RDATE:20231105T020000
END:STANDARD
BEGIN:DAYLIGHT
TZNAME:AKDT
DTSTART:20220313T020000
TZOFFSETFROM:-0900
TZOFFSETTO:-0800
RDATE:20230312T020000
RDATE:20240310T020000
END:DAYLIGHT
END:VTIMEZONE
BEGIN:VEVENT
UID:1436a49e-fce3-45af-9c2e-993f603bf5b5
DTSTAMP:20260420T044712Z
DESCRIPTION:
DTSTART;TZID=America/Anchorage:20220916T170000
DTEND;TZID=America/Anchorage:20220916T180000
LOCATION:
SUMMARY:'Positive Affirmations' open call at the Main Street Gallery
END:VEVENT
END:VCALENDAR
