BEGIN:VCALENDAR
VERSION:2.0
PRODID:-//www.ketchikanarts.org//NONSGML kigkonsult.se iCalcreator 2.30.10/
 /
CALSCALE:GREGORIAN
METHOD:PUBLISH
UID:82e5d977-64ff-4bfe-b79e-b97756a440f2
X-WR-CALDESC:Live music\, guitar and vocals
X-WR-RELCALID:0e10a970c56bf991bf0f4850fbaabdfd
X-WR-TIMEZONE:America/Anchorage
BEGIN:VTIMEZONE
TZID:America/Anchorage
BEGIN:STANDARD
TZNAME:AKST
DTSTART:20211107T020000
TZOFFSETFROM:-0800
TZOFFSETTO:-0900
RDATE:20221106T020000
RDATE:20231105T020000
END:STANDARD
BEGIN:DAYLIGHT
TZNAME:AKDT
DTSTART:20220313T020000
TZOFFSETFROM:-0900
TZOFFSETTO:-0800
RDATE:20230312T020000
RDATE:20240310T020000
END:DAYLIGHT
END:VTIMEZONE
BEGIN:VEVENT
UID:f6fa4fac-f4f9-4b98-a4e1-69f9e6047766
DTSTAMP:20260420T043217Z
DESCRIPTION:Live music\, guitar and vocals
DTSTART;TZID=America/Anchorage:20220914T190000
DTEND;TZID=America/Anchorage:20220914T220000
LOCATION:Fat Stans Pizza
SUMMARY:Joe Williams IV and Cullen McCormick
END:VEVENT
END:VCALENDAR
