BEGIN:VCALENDAR
VERSION:2.0
PRODID:-//www.ketchikanarts.org//NONSGML kigkonsult.se iCalcreator 2.30.10/
 /
CALSCALE:GREGORIAN
METHOD:PUBLISH
UID:24680e12-6226-451a-9a45-2e123fd1fc56
X-WR-CALDESC:In 2022 SE Conference is in Ketchikan\, Alaska September 13 th
 rough 15. Follow the link below for information and to register.
X-WR-RELCALID:61fee55883ecdd24e4c357ad0e859f0b
X-WR-TIMEZONE:America/Anchorage
BEGIN:VTIMEZONE
TZID:America/Anchorage
BEGIN:STANDARD
TZNAME:AKST
DTSTART:20211107T020000
TZOFFSETFROM:-0800
TZOFFSETTO:-0900
RDATE:20221106T020000
RDATE:20231105T020000
END:STANDARD
BEGIN:DAYLIGHT
TZNAME:AKDT
DTSTART:20220313T020000
TZOFFSETFROM:-0900
TZOFFSETTO:-0800
RDATE:20230312T020000
RDATE:20240310T020000
END:DAYLIGHT
END:VTIMEZONE
BEGIN:VEVENT
UID:92c649e0-95fd-4b70-aac1-c669c18e2d59
DTSTAMP:20260420T043024Z
DESCRIPTION:In 2022 SE Conference is in Ketchikan\, Alaska September 13 thr
 ough 15. Follow the link below for information and to register.
DTSTART;TZID=America/Anchorage:20220913T070000
DTEND;TZID=America/Anchorage:20220915T130000
LOCATION:Ted Ferry Civic Center
SUMMARY:'Charting the Course Ahead' SE Conference
END:VEVENT
END:VCALENDAR
