BEGIN:VCALENDAR
VERSION:2.0
PRODID:-//www.ketchikanarts.org//NONSGML kigkonsult.se iCalcreator 2.30.10/
 /
CALSCALE:GREGORIAN
METHOD:PUBLISH
UID:30a8d2fe-d889-4ec6-8dd9-1939534e9c74
X-WR-CALDESC:The Nutcracker auditions will be next Saturday\, September 10t
 h! \n\nThe schedule for auditions is as follows:\nClara - 1:00-1:45\nFritz
  - 2:00-2:45\nSenior Company - 3:00-4:00\nYouth (6-18 years old) Open Audi
 tions - 4:15-4:45\nAdult Open Auditions - 5:00-5:30\n\nAll auditions are o
 pen to the community with the exception of Senior Company auditions.\nTher
 e will be a link in the bio to fill out an audition form ahead of time. \n
 The form will also be available on the day of auditions at the studio - pl
 ease come early enough to fill this out before your start time.
X-WR-RELCALID:dd62763e7ab0ba29273490e141e80979
X-WR-TIMEZONE:America/Anchorage
BEGIN:VTIMEZONE
TZID:America/Anchorage
BEGIN:STANDARD
TZNAME:AKST
DTSTART:20211107T020000
TZOFFSETFROM:-0800
TZOFFSETTO:-0900
RDATE:20221106T020000
RDATE:20231105T020000
END:STANDARD
BEGIN:DAYLIGHT
TZNAME:AKDT
DTSTART:20220313T020000
TZOFFSETFROM:-0900
TZOFFSETTO:-0800
RDATE:20230312T020000
RDATE:20240310T020000
END:DAYLIGHT
END:VTIMEZONE
BEGIN:VEVENT
UID:792b2404-e946-4266-9c71-470c2206b3df
DTSTAMP:20260420T043001Z
DESCRIPTION:The Nutcracker auditions will be next Saturday\, September 10th
 ! \n\nThe schedule for auditions is as follows:\nClara - 1:00-1:45\nFritz 
 - 2:00-2:45\nSenior Company - 3:00-4:00\nYouth (6-18 years old) Open Audit
 ions - 4:15-4:45\nAdult Open Auditions - 5:00-5:30\n\nAll auditions are op
 en to the community with the exception of Senior Company auditions.\nThere
  will be a link in the bio to fill out an audition form ahead of time. \nT
 he form will also be available on the day of auditions at the studio - ple
 ase come early enough to fill this out before your start time.
DTSTART;TZID=America/Anchorage:20220910T130000
DTEND;TZID=America/Anchorage:20220910T173000
LOCATION:At KTB Studios
SUMMARY:The Nutcracker Auditions
END:VEVENT
END:VCALENDAR
