BEGIN:VCALENDAR
VERSION:2.0
PRODID:-//www.ketchikanarts.org//NONSGML kigkonsult.se iCalcreator 2.30.10/
 /
CALSCALE:GREGORIAN
METHOD:PUBLISH
UID:740813b8-92e2-4d2b-b991-9f4fc1a9b661
X-WR-CALDESC:
X-WR-RELCALID:3242b8809862b787f7e8a3ec04ca4c2e
X-WR-TIMEZONE:America/Anchorage
BEGIN:VTIMEZONE
TZID:America/Anchorage
BEGIN:STANDARD
TZNAME:AKST
DTSTART:20211107T020000
TZOFFSETFROM:-0800
TZOFFSETTO:-0900
RDATE:20221106T020000
RDATE:20231105T020000
END:STANDARD
BEGIN:DAYLIGHT
TZNAME:AKDT
DTSTART:20220313T020000
TZOFFSETFROM:-0900
TZOFFSETTO:-0800
RDATE:20230312T020000
RDATE:20240310T020000
END:DAYLIGHT
END:VTIMEZONE
BEGIN:VEVENT
UID:d810ab31-8631-4c77-a1d2-09cefa900111
DTSTAMP:20260420T045604Z
DESCRIPTION:
DTSTART;TZID=America/Anchorage:20220910T130000
DTEND;TZID=America/Anchorage:20220910T170000
LOCATION:Tongass Historical Museum
SUMMARY:The Tongass Historical Museum
END:VEVENT
END:VCALENDAR
