BEGIN:VCALENDAR
VERSION:2.0
PRODID:-//www.ketchikanarts.org//NONSGML kigkonsult.se iCalcreator 2.30.10/
 /
CALSCALE:GREGORIAN
METHOD:PUBLISH
UID:0de15865-0a28-4f51-8b2b-2e536d61e527
X-WR-CALDESC:Come join local favorites from The Artery\, Loren McCue and Ka
 rley Lesko for a Sip & Paint evening at the Mill at Ward Cove! The Artery 
 is bringing its brand of creative fun for the folks in Ketchikan out to th
 e Mill and you will amaze yourself at the creative artist they can bring o
 ut in you! Bring a friend (or a few!) and enjoy a free beverage in a takea
 way Mill at Ward Cove souvenir glass! It’s a perfect way to kick off a wee
 kend of fun with a few of your pals and unwind at an historic part of Ketc
 hikan’s rich history with some sipping and painting. You will be in great 
 hands with the patience and skill of our friends from the Artery as they g
 ive everyone tips and pointers individually as well as the whole group! Bo
 ok online with us at: wardcoveak.com
X-WR-RELCALID:77a904a236f92873ecfd16f64ad30910
X-WR-TIMEZONE:America/Anchorage
BEGIN:VTIMEZONE
TZID:America/Anchorage
BEGIN:STANDARD
TZNAME:AKST
DTSTART:20211107T020000
TZOFFSETFROM:-0800
TZOFFSETTO:-0900
RDATE:20221106T020000
RDATE:20231105T020000
END:STANDARD
BEGIN:DAYLIGHT
TZNAME:AKDT
DTSTART:20220313T020000
TZOFFSETFROM:-0900
TZOFFSETTO:-0800
RDATE:20230312T020000
END:DAYLIGHT
END:VTIMEZONE
BEGIN:VEVENT
UID:0c7cc639-6344-47ef-b137-8b26a3881d69
DTSTAMP:20260420T043209Z
DESCRIPTION:Come join local favorites from The Artery\, Loren McCue and Kar
 ley Lesko for a Sip & Paint evening at the Mill at Ward Cove! The Artery i
 s bringing its brand of creative fun for the folks in Ketchikan out to the
  Mill and you will amaze yourself at the creative artist they can bring ou
 t in you! Bring a friend (or a few!) and enjoy a free beverage in a takeaw
 ay Mill at Ward Cove souvenir glass! It’s a perfect way to kick off a week
 end of fun with a few of your pals and unwind at an historic part of Ketch
 ikan’s rich history with some sipping and painting. You will be in great h
 ands with the patience and skill of our friends from the Artery as they gi
 ve everyone tips and pointers individually as well as the whole group! Boo
 k online with us at: wardcoveak.com
DTSTART;TZID=America/Anchorage:20220903T170000
DTEND;TZID=America/Anchorage:20220903T190000
LOCATION:The Mill at Ward Cove
SUMMARY:Loren McCue & Karley Lesko Sip and Paint
END:VEVENT
END:VCALENDAR
