BEGIN:VCALENDAR
VERSION:2.0
PRODID:-//www.ketchikanarts.org//NONSGML kigkonsult.se iCalcreator 2.30.10/
 /
CALSCALE:GREGORIAN
METHOD:PUBLISH
UID:622c0cca-6e54-4371-b9b0-dabaf3eab956
X-WR-CALDESC:The Southeastern Art Show and Market (SEASAM) and SEASAM Youth
  has been part of the Chickasaw Annual Meeting and Festival since 2005. SE
 ASAM and SEASAM Youth provide a unique marketplace where adult and youth a
 rtists from federally recognized Southeastern  tribes can flourish. The co
 mpetition portion of the market includes category awards\, division awards
  and a Best of Show award for adults and judges' awards\, division awards 
 and a Best of Show award for youth.\n\nAllowing for the continuation of co
 nnecting patrons with one-of-a-kind and exciting First American art and ar
 tists\, our 2020 and 2021 SEASAM competitions and markets were moved to a 
 virtual format for the safety of artists and patrons.\n\nThe 2022 Southeas
 tern Art Show and Market and SEASAM Youth will once again be in-person and
  part of the Chickasaw Annual Meeting and Festival. The market will take p
 lace in Tishomingo\, Oklahoma on Sept. 30 and Oct. 1.
X-WR-RELCALID:054264089f7caa73b4b473c0e20c2af3
X-WR-TIMEZONE:America/Anchorage
BEGIN:VTIMEZONE
TZID:America/Anchorage
BEGIN:STANDARD
TZNAME:AKST
DTSTART:20211107T020000
TZOFFSETFROM:-0800
TZOFFSETTO:-0900
RDATE:20221106T020000
RDATE:20231105T020000
END:STANDARD
BEGIN:DAYLIGHT
TZNAME:AKDT
DTSTART:20220313T020000
TZOFFSETFROM:-0900
TZOFFSETTO:-0800
RDATE:20230312T020000
END:DAYLIGHT
END:VTIMEZONE
BEGIN:VEVENT
UID:f9f4a8bc-db9a-4fd0-a6bf-8c99538f8c30
DTSTAMP:20260420T045841Z
DESCRIPTION:The Southeastern Art Show and Market (SEASAM) and SEASAM Youth 
 has been part of the Chickasaw Annual Meeting and Festival since 2005. SEA
 SAM and SEASAM Youth provide a unique marketplace where adult and youth ar
 tists from federally recognized Southeastern  tribes can flourish. The com
 petition portion of the market includes category awards\, division awards 
 and a Best of Show award for adults and judges' awards\, division awards a
 nd a Best of Show award for youth.\n\nAllowing for the continuation of con
 necting patrons with one-of-a-kind and exciting First American art and art
 ists\, our 2020 and 2021 SEASAM competitions and markets were moved to a v
 irtual format for the safety of artists and patrons.\n\nThe 2022 Southeast
 ern Art Show and Market and SEASAM Youth will once again be in-person and 
 part of the Chickasaw Annual Meeting and Festival. The market will take pl
 ace in Tishomingo\, Oklahoma on Sept. 30 and Oct. 1.
DTSTART;TZID=America/Anchorage:20220902T090000
DTEND;TZID=America/Anchorage:20220902T100000
LOCATION:Tishomingo\, Oklahoma
SUMMARY:2022 Southeastern Art Show and Market Call to Artists applications 
 for youth due!
END:VEVENT
END:VCALENDAR
