BEGIN:VCALENDAR
VERSION:2.0
PRODID:-//www.ketchikanarts.org//NONSGML kigkonsult.se iCalcreator 2.30.10/
 /
CALSCALE:GREGORIAN
METHOD:PUBLISH
UID:7b5ee888-6484-4ce4-9389-fd6f02268e7a
X-WR-CALDESC:Quarterly Grant Deadlines: June 1\, September 1\, December 1\,
  March 1\n\nCareer Opportunity Grants are designed to provide financial as
 sistance to professional artists for travel to in-state\, national\, or in
 ternational events\, programs or seminars and for other activities that wi
 ll contribute to the strength of the artist's professional standing or ski
 ll. These cash awards help professional artists take advantage of impendin
 g\, concrete opportunities that will significantly advance their work or c
 areers. The awards are for unique\, short-term opportunities that do not c
 onstitute routine completion of work in progress. Applicants may request g
 rants in variable amounts from $100 to $1\,000 rounded to the nearest $100
 . Career Opportunity Grants will not exceed $1\,000. First time applicant 
 must contact ASCA first.
X-WR-RELCALID:17a841e5b48b7764aa228b1b3100ceea
X-WR-TIMEZONE:America/Anchorage
BEGIN:VTIMEZONE
TZID:America/Anchorage
BEGIN:STANDARD
TZNAME:AKST
DTSTART:20211107T020000
TZOFFSETFROM:-0800
TZOFFSETTO:-0900
RDATE:20221106T020000
RDATE:20231105T020000
END:STANDARD
BEGIN:DAYLIGHT
TZNAME:AKDT
DTSTART:20220313T020000
TZOFFSETFROM:-0900
TZOFFSETTO:-0800
RDATE:20230312T020000
END:DAYLIGHT
END:VTIMEZONE
BEGIN:VEVENT
UID:b0911d0d-ff3d-48d2-acf9-36d8afabf180
DTSTAMP:20260420T043528Z
DESCRIPTION:Quarterly Grant Deadlines: June 1\, September 1\, December 1\, 
 March 1\n\nCareer Opportunity Grants are designed to provide financial ass
 istance to professional artists for travel to in-state\, national\, or int
 ernational events\, programs or seminars and for other activities that wil
 l contribute to the strength of the artist's professional standing or skil
 l. These cash awards help professional artists take advantage of impending
 \, concrete opportunities that will significantly advance their work or ca
 reers. The awards are for unique\, short-term opportunities that do not co
 nstitute routine completion of work in progress. Applicants may request gr
 ants in variable amounts from $100 to $1\,000 rounded to the nearest $100.
  Career Opportunity Grants will not exceed $1\,000. First time applicant m
 ust contact ASCA first.
DTSTART;TZID=America/Anchorage:20220901T000000
DTEND;TZID=America/Anchorage:20220901T235900
LOCATION:161 Klevin Street\, Suite 102 \, Anchorage\, AK 99508 US
SUMMARY:Career Opportunity Grant Submission Deadline
END:VEVENT
END:VCALENDAR
