BEGIN:VCALENDAR
VERSION:2.0
PRODID:-//www.ketchikanarts.org//NONSGML kigkonsult.se iCalcreator 2.30.10/
 /
CALSCALE:GREGORIAN
METHOD:PUBLISH
UID:fd20db80-4c5e-4636-a21e-7b5fd8a8440a
X-WR-CALDESC:The Day Spa presents 9 to 5 The Musical Auditions held august 
 30th and 31st at either 6:30 or 7:30. Sign-ups for auditions will be open 
 and be available at the Blueberry Arts Festival.
X-WR-RELCALID:20f94dc130110110a2960ba275f97303
X-WR-TIMEZONE:America/Anchorage
BEGIN:VTIMEZONE
TZID:America/Anchorage
BEGIN:STANDARD
TZNAME:AKST
DTSTART:20211107T020000
TZOFFSETFROM:-0800
TZOFFSETTO:-0900
RDATE:20221106T020000
RDATE:20231105T020000
END:STANDARD
BEGIN:DAYLIGHT
TZNAME:AKDT
DTSTART:20220313T020000
TZOFFSETFROM:-0900
TZOFFSETTO:-0800
RDATE:20230312T020000
END:DAYLIGHT
END:VTIMEZONE
BEGIN:VEVENT
UID:b7cd160f-23e9-4c36-aab9-c5d2561c1b58
DTSTAMP:20260420T062324Z
DESCRIPTION:The Day Spa presents 9 to 5 The Musical Auditions held august 3
 0th and 31st at either 6:30 or 7:30. Sign-ups for auditions will be open a
 nd be available at the Blueberry Arts Festival.
DTSTART;TZID=America/Anchorage:20220831T183000
DTEND;TZID=America/Anchorage:20220831T193000
LOCATION:First City Players
SUMMARY:First City Players '9 to 5 the Musical' auditions!
END:VEVENT
END:VCALENDAR
